BEGIN:VCALENDAR
VERSION:2.0
PRODID:-//Jüdische Kulturtage Sachsen-Anhalt - ECPv5.14.0.3//NONSGML v1.0//EN
CALSCALE:GREGORIAN
METHOD:PUBLISH
X-WR-CALNAME:Jüdische Kulturtage Sachsen-Anhalt
X-ORIGINAL-URL:https://www.archiv.jkt-sachsen-anhalt.de
X-WR-CALDESC:Events for Jüdische Kulturtage Sachsen-Anhalt
REFRESH-INTERVAL;VALUE=DURATION:PT1H
X-Robots-Tag:noindex
X-PUBLISHED-TTL:PT1H
BEGIN:VTIMEZONE
TZID:Europe/Berlin
BEGIN:DAYLIGHT
TZOFFSETFROM:+0100
TZOFFSETTO:+0200
TZNAME:CEST
DTSTART:20210328T010000
END:DAYLIGHT
BEGIN:STANDARD
TZOFFSETFROM:+0200
TZOFFSETTO:+0100
TZNAME:CET
DTSTART:20211031T010000
END:STANDARD
END:VTIMEZONE
BEGIN:VEVENT
DTSTART;TZID=Europe/Berlin:20211009T140000
DTEND;TZID=Europe/Berlin:20211009T160000
DTSTAMP:20260419T152322
CREATED:20210915T162255Z
LAST-MODIFIED:20210916T083117Z
UID:649-1633788000-1633795200@www.archiv.jkt-sachsen-anhalt.de
SUMMARY:Stadtführung durch das jüdische Wörlitz
DESCRIPTION:Treffpunkt: Denkmal auf dem Marktplatz \nDie Führung am 9. Oktober beginnt 14 Uhr am Denkmal auf dem Markt.  \nBei dem Stadtrundgang wird unter anderem an die Wörlitzer Familie Cohn erinnert\, die „ohne Ansehen der Religion für soziale Zwecke“ viel Gutes mit ihren Stiftungen und Schenkungen im 19. und  20. Jahrhundert getan hat. Weiter geht es zur Schulturnhalle\, die mit Unterstützung von Martin Weinstein 1915 erbaut wurde. Eine weitere Station bildet die 1791 erbaute Synagoge am Ende der Amtsgasse\, die an die tolerante Politik des Fürsten Franz erinnert. \n 
URL:https://www.archiv.jkt-sachsen-anhalt.de/veranstaltung/stadtfuehrung-durch-das-juedische-woermlitz/
LOCATION:Denkmal auf dem Markt Wörlitz\, Markt\, Oranienbaum-Wörlitz\, Sachsen-Anhalt\, 06786
ATTACH;FMTTYPE=image/jpeg:https://www.archiv.jkt-sachsen-anhalt.de/wp-content/uploads/2021/09/Woerlitz_synagoge_aussen-e1631725640368.jpg
END:VEVENT
END:VCALENDAR