BEGIN:VCALENDAR
VERSION:2.0
PRODID:-//Jüdische Kulturtage Sachsen-Anhalt - ECPv5.14.0.3//NONSGML v1.0//EN
CALSCALE:GREGORIAN
METHOD:PUBLISH
X-WR-CALNAME:Jüdische Kulturtage Sachsen-Anhalt
X-ORIGINAL-URL:https://www.archiv.jkt-sachsen-anhalt.de
X-WR-CALDESC:Events for Jüdische Kulturtage Sachsen-Anhalt
REFRESH-INTERVAL;VALUE=DURATION:PT1H
X-Robots-Tag:noindex
X-PUBLISHED-TTL:PT1H
BEGIN:VTIMEZONE
TZID:Europe/Berlin
BEGIN:DAYLIGHT
TZOFFSETFROM:+0100
TZOFFSETTO:+0200
TZNAME:CEST
DTSTART:20210328T010000
END:DAYLIGHT
BEGIN:STANDARD
TZOFFSETFROM:+0200
TZOFFSETTO:+0100
TZNAME:CET
DTSTART:20211031T010000
END:STANDARD
END:VTIMEZONE
BEGIN:VEVENT
DTSTART;VALUE=DATE:20211018
DTEND;VALUE=DATE:20211023
DTSTAMP:20260419T165430
CREATED:20210916T132138Z
LAST-MODIFIED:20210930T132258Z
UID:865-1634515200-1634947199@www.archiv.jkt-sachsen-anhalt.de
SUMMARY:Schulprojekt: Begegnung mit Ben Salomo
DESCRIPTION:Ben Salomo ist vielen durch sein „Rap am Mittwoch“ auf Youtube bekannt. Der Gründer und Veranstalter dieser Reihe wurde in Israel geboren und wuchs im Berliner Kiez auf. Seine jüdische Identität verarbeitet er offensiv in seinen Texten – eine Ausnahme in der deutschen Hip-Hop-Szene\, in der gewaltverherrlichende\, homophobe und frauenverachtende Aussagen durchaus normal sind. \n2018 zog sich Ben Salomo wegen der antisemitischen und rassistischen Entwicklungen in der Rapszene zurück. Er spricht heute über seine Erfahrungen und was ihn und euch bewegt. \nEin Angebot der Friedrich Naumann Stiftung und des Ilan-Bildungsprogramms (Jüdische Studien in Halle und Museum Synagoge Gröbzig). Und natürlich Ben Salomo. \nWeitere Informationen für Interessierte bei Dr. Anton Hieke: anton.hieke@ilan-st.de
URL:https://www.archiv.jkt-sachsen-anhalt.de/veranstaltung/schulprojekt-begegnung-mit-ben-salomo-2/
LOCATION:Geschlossene Schulveranstaltung\, Stendal
ATTACH;FMTTYPE=image/jpeg:https://www.archiv.jkt-sachsen-anhalt.de/wp-content/uploads/2021/09/190823_KBER_PHT190_Bild-Ben-Salomo-e1631796548311.jpg
END:VEVENT
BEGIN:VEVENT
DTSTART;VALUE=DATE:20211018
DTEND;VALUE=DATE:20211023
DTSTAMP:20260419T165430
CREATED:20210916T132935Z
LAST-MODIFIED:20210930T132958Z
UID:871-1634515200-1634947199@www.archiv.jkt-sachsen-anhalt.de
SUMMARY:Ilan Projekttag in der Schule: Begegnung mit Ben Salomo und Stadtführung
DESCRIPTION:Ben Salomo ist vielen durch sein „Rap am Mittwoch“ auf Youtube bekannt. Der Gründer und Veranstalter dieser Reihe wurde in Israel geboren und wuchs im Berliner Kiez auf. Seine jüdische Identität verarbeitet er offensiv in seinen Texten – eine Ausnahme in der deutschen Hip-Hop-Szene\, in der gewaltverherrlichende\, homophobe und frauenverachtende Aussagen durchaus normal sind. \n2018 zog sich Ben Salomo wegen der antisemitischen und rassistischen Entwicklungen in der Rapszene zurück. Er spricht heute über seine Erfahrungen und was ihn und euch bewegt. \nDen ganzen Tag gibt es Ilan-Projekte sowie eine Stadtführung durch miteinander e.V. \nEin Angebot der Friedrich Naumann Stiftung und des Ilan-Bildungsprogramms (Jüdische Studien in Halle und Museum Synagoge Gröbzig). Und natürlich Ben Salomo. \nWeitere Informationen für Interessierte bei Dr. Anton Hieke: anton.hieke@ilan-st.de
URL:https://www.archiv.jkt-sachsen-anhalt.de/veranstaltung/schulprojekt-begegnung-mit-ben-salomo-und-stadtfuehrung/
LOCATION:Geschlossene Schulveranstaltung\, Querfurt
ATTACH;FMTTYPE=image/jpeg:https://www.archiv.jkt-sachsen-anhalt.de/wp-content/uploads/2021/09/190823_KBER_PHT190_Bild-Ben-Salomo-e1631796548311.jpg
END:VEVENT
BEGIN:VEVENT
DTSTART;VALUE=DATE:20211018
DTEND;VALUE=DATE:20211023
DTSTAMP:20260419T165430
CREATED:20210916T134121Z
LAST-MODIFIED:20210930T132740Z
UID:878-1634515200-1634947199@www.archiv.jkt-sachsen-anhalt.de
SUMMARY:Ilan Projekttag in der Schule: Begegnung mit Ben Salomo und Stadtführung
DESCRIPTION:Ben Salomo ist vielen durch sein „Rap am Mittwoch“ auf Youtube bekannt. Der Gründer und Veranstalter dieser Reihe wurde in Israel geboren und wuchs im Berliner Kiez auf. Seine jüdische Identität verarbeitet er offensiv in seinen Texten – eine Ausnahme in der deutschen Hip-Hop-Szene\, in der gewaltverherrlichende\, homophobe und frauenverachtende Aussagen durchaus normal sind. \n2018 zog sich Ben Salomo wegen der antisemitischen und rassistischen Entwicklungen in der Rapszene zurück. Er spricht heute über seine Erfahrungen und was ihn und euch bewegt. \nDen ganzen Tag gibt es Ilan-Projekte sowie eine Stadtführung durch das jüdische Weißenfels. \nEin Angebot der Friedrich Naumann Stiftung und des Ilan-Bildungsprogramms (Jüdische Studien in Halle und Museum Synagoge Gröbzig). Und natürlich Ben Salomo. \nWeitere Informationen für Interessierte bei Dr. Anton Hieke: anton.hieke@ilan-st.de
URL:https://www.archiv.jkt-sachsen-anhalt.de/veranstaltung/ilan-projekttag-in-der-schule-mit-ben-salomo-und-stadtfuehrung/
LOCATION:Geschlossene Schulveranstaltung\, Weißenfels
ATTACH;FMTTYPE=image/jpeg:https://www.archiv.jkt-sachsen-anhalt.de/wp-content/uploads/2021/09/190823_KBER_PHT190_Bild-Ben-Salomo-e1631796548311.jpg
END:VEVENT
BEGIN:VEVENT
DTSTART;TZID=Europe/Berlin:20211018T100000
DTEND;TZID=Europe/Berlin:20211022T100000
DTSTAMP:20260419T165430
CREATED:20210916T123444Z
LAST-MODIFIED:20210930T132533Z
UID:845-1634551200-1634896800@www.archiv.jkt-sachsen-anhalt.de
SUMMARY:Schulprojekt: Begegnung mit Ben Salomo
DESCRIPTION:Ben Salomo ist vielen durch sein „Rap am Mittwoch“ auf Youtube bekannt. Der Gründer und Veranstalter dieser Reihe wurde in Israel geboren und wuchs im Berliner Kiez auf. Seine jüdische Identität verarbeitet er offensiv in seinen Texten – eine Ausnahme in der deutschen Hip-Hop-Szene\, in der gewaltverherrlichende\, homophobe und frauenverachtende Aussagen durchaus normal sind. \n2018 zog sich Ben Salomo wegen der antisemitischen und rassistischen Entwicklungen in der Rapszene zurück. Er spricht heute über seine Erfahrungen und was ihn und euch bewegt. Die Veranstaltung ist nicht öffentlich. \nEin Angebot des Jugendclub TiQ der Franckeschen Stiftungen in Kooperation mit der Friedrich Naumann Stiftung und dem Ilan-Bildungsprogramm (Jüdische Studien in Halle und Museum Synagoge Gröbzig). Und natürlich Ben Salomo. \nWeitere Informationen für Interessierte bei Dr. Anton Hieke: anton.hieke@ilan-st.de
URL:https://www.archiv.jkt-sachsen-anhalt.de/veranstaltung/schulprojekt-begegnung-mit-ben-salomo/
LOCATION:Geschlossene Schulveranstaltung\, Halle (Saale)
ATTACH;FMTTYPE=image/jpeg:https://www.archiv.jkt-sachsen-anhalt.de/wp-content/uploads/2021/09/190823_KBER_PHT190_Bild-Ben-Salomo-e1631796548311.jpg
END:VEVENT
BEGIN:VEVENT
DTSTART;VALUE=DATE:20211021
DTEND;VALUE=DATE:20211022
DTSTAMP:20260419T165430
CREATED:20211124T151037Z
LAST-MODIFIED:20211124T151037Z
UID:1220-1634774400-1634860799@www.archiv.jkt-sachsen-anhalt.de
SUMMARY:Begegnung mit Josh Dolgin
DESCRIPTION:Josh “Socalled” Dolgin aus Montreal\, Kanada\, ist einer der vielseitigsten Musiker der aktuellen Musikszene. Ob als Komponist von Musicals\, ob als Sänger mit Streichquartett\, ob als Rapper oder Beat-Spezialist bei Abraham Inc oder auf der Bühne mit Funk-Legende Fred Wesley\, Josh Dolgin ist ein kreativer Tausendsassa\, der zudem (nicht nur musikalisch) zaubern kann. Nach Sachsen-Anhalt kommt er im Herbst 2021 mit einem Solo-Programm seiner jiddischen Lieblingslieder. So wie er singt kaum jemand\, so tief wie er haben wenige Sänger*innen\, die osteuropäisch-jüdische Gesangstradition studiert und doch einen ganz eigenen Stil gefunden.
URL:https://www.archiv.jkt-sachsen-anhalt.de/veranstaltung/begegnung-mit-josh-dolgin-2/
LOCATION:Halle (Saale)\, Halle (Saale)\, 06108
ATTACH;FMTTYPE=image/jpeg:https://www.archiv.jkt-sachsen-anhalt.de/wp-content/uploads/2021/09/konzert21_josh.jpg
END:VEVENT
BEGIN:VEVENT
DTSTART;TZID=Europe/Berlin:20211021T180000
DTEND;TZID=Europe/Berlin:20211021T180000
DTSTAMP:20260419T165430
CREATED:20210930T101126Z
LAST-MODIFIED:20210930T141118Z
UID:1046-1634839200-1634839200@www.archiv.jkt-sachsen-anhalt.de
SUMMARY:Themenführung: Jüdisches Traditionserbe in einer protestantischen Kunst- und Naturalienkammer
DESCRIPTION:Schon mit der Gründung des Waisenhauses in Glaucha begann August Hermann Francke\, Objekte aus der Natur (Naturalia) und mit menschlicher Kunstfertigkeit hergestellte Objekte (Artificialia) zu sammeln. Sie bildeten den Grundstock für eine barocke Wunderkammer\, die 1741 kunstvoll umgestaltet wurde und heute noch in dem originalen Zustand aus dem 18. Jahrhundert besichtigt werden kann. \nDie Wunderkammer sollte die Welt im Kleinen vorstellen. Diesem Anspruch folgend wurden auch Objekte aus verschiedenen Religionen der Welt in der Kammer präsentiert\, darunter auch Objekte aus dem Judentum wie zum Beispiel ein Schofar. \nDr. Claus Veltmann stellt die Wunderkammer sowie die Objekte mit Bezug zum Judentum vor und erläutert das Verhältnis der halleschen Pietisten zur jüdischen Religion.
URL:https://www.archiv.jkt-sachsen-anhalt.de/veranstaltung/themenfuehrung/
LOCATION:Franckesche Stiftungen\, Franckeplatz 1\, Haus 22\, Halle (Saale)\, 06110
ATTACH;FMTTYPE=image/png:https://www.archiv.jkt-sachsen-anhalt.de/wp-content/uploads/2021/09/Schofar_FStFoto.franckesche-Stiftungen.png
END:VEVENT
BEGIN:VEVENT
DTSTART;TZID=Europe/Berlin:20211021T200000
DTEND;TZID=Europe/Berlin:20211021T200000
DTSTAMP:20260419T165430
CREATED:20210914T163714Z
LAST-MODIFIED:20211013T122536Z
UID:540-1634846400-1634846400@www.archiv.jkt-sachsen-anhalt.de
SUMMARY:Konzert: Josh "Socalled" Dolgin (Kanada)
DESCRIPTION:Josh “Socalled” Dolgin aus Montreal\, Kanada\, ist einer der vielseitigsten Musiker der aktuellen Musikszene. Ob als Komponist von Musicals\, ob als Sänger mit Streichquartett\, ob als Rapper oder Beat-Spezialist bei Abraham Inc oder auf der Bühne mit Funk-Legende Fred Wesley\, Josh Dolgin ist ein kreativer Tausendsassa\, der zudem (nicht nur musikalisch) zaubern kann. Nach Sachsen-Anhalt kommt er im Herbst 2021 mit einem Solo-Programm seiner jiddischen Lieblingslieder. So wie er singt kaum jemand\, so tief wie er haben wenige Sänger*innen\, die osteuropäisch-jüdische Gesangstradition studiert und doch einen ganz eigenen Stil gefunden. Freuen Sie sich auf Josh Dolgin solo – ein Konzertereignis der ganz besonderen Art! \nDie Veranstaltung wird aufgrund eines Beschlusses der Universität Halle als 2G (Zutritt nur für Besucher*innen die entweder genesen oder geimpft sind) durchgeführt.  \nMit Josh “Socalled” Dolgin (Kanada): Gesang\, Klavier\, Akkordeon
URL:https://www.archiv.jkt-sachsen-anhalt.de/veranstaltung/josh-socaled-dolgin-kanada/
LOCATION:Aula im Löwengebäude der Uni Halle\, Universitätsplatz 1\, Halle (Saale)\, Sachsen-Anhalt\, 06108\, Deutschland
ATTACH;FMTTYPE=image/jpeg:https://www.archiv.jkt-sachsen-anhalt.de/wp-content/uploads/2021/09/konzert21_josh.jpg
END:VEVENT
END:VCALENDAR