BEGIN:VCALENDAR
VERSION:2.0
PRODID:-//Jüdische Kulturtage Sachsen-Anhalt - ECPv5.14.0.3//NONSGML v1.0//EN
CALSCALE:GREGORIAN
METHOD:PUBLISH
X-WR-CALNAME:Jüdische Kulturtage Sachsen-Anhalt
X-ORIGINAL-URL:https://www.archiv.jkt-sachsen-anhalt.de
X-WR-CALDESC:Events for Jüdische Kulturtage Sachsen-Anhalt
REFRESH-INTERVAL;VALUE=DURATION:PT1H
X-Robots-Tag:noindex
X-PUBLISHED-TTL:PT1H
BEGIN:VTIMEZONE
TZID:Europe/Berlin
BEGIN:DAYLIGHT
TZOFFSETFROM:+0100
TZOFFSETTO:+0200
TZNAME:CEST
DTSTART:20210328T010000
END:DAYLIGHT
BEGIN:STANDARD
TZOFFSETFROM:+0200
TZOFFSETTO:+0100
TZNAME:CET
DTSTART:20211031T010000
END:STANDARD
END:VTIMEZONE
BEGIN:VEVENT
DTSTART;TZID=Europe/Berlin:20211106T170000
DTEND;TZID=Europe/Berlin:20211106T170000
DTSTAMP:20260419T135719
CREATED:20210915T195740Z
LAST-MODIFIED:20211014T093935Z
UID:774-1636218000-1636218000@www.archiv.jkt-sachsen-anhalt.de
SUMMARY:Displaced
DESCRIPTION:Deutschland\, 2020; 92 Minuten; FSK: ab 0\nBuch und Regie: Sharon Ryba-Kahn \nSharon Ryba-Kahn ist zwar in Deutschland geboren\, sie ist aber keine Deutsche. Das ist auch gut so\, denn in ihren Augen ist Geschichte eben nichts\, was der Vergangenheit angehört. Sharon ist Jüdin und Angehörige der 3. Generation von Überlebenden der Shoah oder – wie es oft genannt wird – des Holocaust. Als sich ihr Vater nach sieben Jahren Funkstille ganz plötzlich wieder bei ihr meldet\, nimmt sie das zum Anlass\, die väterliche Familiengeschichte zu rekonstruieren\, um mehr über ihn und seine Eltern zu erfahren. Dabei schweift ihr Blick immer wieder auf ihr direktes Umfeld\, die nicht-jüdische Mehrheitsgesellschaft in Deutschland und die Frage\, wie sie mit der gemeinsamen Vergangenheit umgehen. \n“Ich wollte mich in DISPLACED meiner Beziehung zu Deutschland stellen und die Familiengeschichte meines Vaters gab mir einen Rahmen dafür. Der Film wurde für mich eine Chance in die Tiefe zu gucken. Ich wusste immer schon\, dass die Kluft zwischen dem jüdischen Diskurs und dem nicht-jüdischen Diskurs enorm ist.“ (Sharon Ryba-Kahn)
URL:https://www.archiv.jkt-sachsen-anhalt.de/veranstaltung/displaced/
LOCATION:Luchskino am Zoo\, Seebener Straße 172\, Halle (Saale)\, Sachsen-Anhalt\, 06114
ATTACH;FMTTYPE=image/jpeg:https://www.archiv.jkt-sachsen-anhalt.de/wp-content/uploads/2021/09/displaced-2-e1631819855263.jpg
END:VEVENT
END:VCALENDAR