BEGIN:VCALENDAR
VERSION:2.0
PRODID:-//Jüdische Kulturtage Sachsen-Anhalt - ECPv5.14.0.3//NONSGML v1.0//EN
CALSCALE:GREGORIAN
METHOD:PUBLISH
X-WR-CALNAME:Jüdische Kulturtage Sachsen-Anhalt
X-ORIGINAL-URL:https://www.archiv.jkt-sachsen-anhalt.de
X-WR-CALDESC:Events for Jüdische Kulturtage Sachsen-Anhalt
REFRESH-INTERVAL;VALUE=DURATION:PT1H
X-Robots-Tag:noindex
X-PUBLISHED-TTL:PT1H
BEGIN:VTIMEZONE
TZID:Europe/Berlin
BEGIN:DAYLIGHT
TZOFFSETFROM:+0100
TZOFFSETTO:+0200
TZNAME:CEST
DTSTART:20210328T010000
END:DAYLIGHT
BEGIN:STANDARD
TZOFFSETFROM:+0200
TZOFFSETTO:+0100
TZNAME:CET
DTSTART:20211031T010000
END:STANDARD
END:VTIMEZONE
BEGIN:VEVENT
DTSTART;TZID=Europe/Berlin:20211108T180000
DTEND;TZID=Europe/Berlin:20211108T180000
DTSTAMP:20260419T150610
CREATED:20211028T142021Z
LAST-MODIFIED:20211028T142327Z
UID:1156-1636394400-1636394400@www.archiv.jkt-sachsen-anhalt.de
SUMMARY:“Kleiner jüdischer Kochkurs“
DESCRIPTION:Kulinarisch durch das Jahr mit der Jüdischen Gemeinde Halle “Kleiner jüdischer Kochkurs“. \nBitte melden Sie sich zu allen Veranstaltungen rechtzeitig an und beachten Sie die Einhaltung der 3-G-Regeln. \nDie Kartenzahl zu den jeweiligen Veranstaltungen ist begrenzt! Bitte melden Sie sich zu allen rechtzeitig an:\nTelefon 034976 380850 |  info@groebziger-synagoge.de
URL:https://www.archiv.jkt-sachsen-anhalt.de/veranstaltung/kleiner-juedischer-kochkurs/
LOCATION:Walkhoffring 1\, Gröbzig\, Walkhoffring 1\, Gröbzig\, 06388
ATTACH;FMTTYPE=image/jpeg:https://www.archiv.jkt-sachsen-anhalt.de/wp-content/uploads/2021/10/2021-11-07.jpg
ORGANIZER;CN="Museum%20Synagoge%20Gr%C3%B6bzig":MAILTO:info@groebziger-synagoge.de
END:VEVENT
END:VCALENDAR