BEGIN:VCALENDAR
VERSION:2.0
PRODID:-//Jüdische Kulturtage Sachsen-Anhalt - ECPv5.14.0.3//NONSGML v1.0//EN
CALSCALE:GREGORIAN
METHOD:PUBLISH
X-WR-CALNAME:Jüdische Kulturtage Sachsen-Anhalt
X-ORIGINAL-URL:https://www.archiv.jkt-sachsen-anhalt.de
X-WR-CALDESC:Events for Jüdische Kulturtage Sachsen-Anhalt
REFRESH-INTERVAL;VALUE=DURATION:PT1H
X-Robots-Tag:noindex
X-PUBLISHED-TTL:PT1H
BEGIN:VTIMEZONE
TZID:Europe/Berlin
BEGIN:DAYLIGHT
TZOFFSETFROM:+0100
TZOFFSETTO:+0200
TZNAME:CEST
DTSTART:20210328T010000
END:DAYLIGHT
BEGIN:STANDARD
TZOFFSETFROM:+0200
TZOFFSETTO:+0100
TZNAME:CET
DTSTART:20211031T010000
END:STANDARD
END:VTIMEZONE
BEGIN:VEVENT
DTSTART;TZID=Europe/Berlin:20211109T180000
DTEND;TZID=Europe/Berlin:20211109T180000
DTSTAMP:20260419T135224
CREATED:20211028T142734Z
LAST-MODIFIED:20211028T142734Z
UID:1163-1636480800-1636480800@www.archiv.jkt-sachsen-anhalt.de
SUMMARY:Gemeinsames “Pogromgedenken“
DESCRIPTION:Gemeinsames “Pogromgedenken“ auf dem Marktplatz \nBitte melden Sie sich zu allen Veranstaltungen rechtzeitig an und beachten Sie die Einhaltung der 3-G-Regeln. \nDie Kartenzahl zu den jeweiligen Veranstaltungen ist begrenzt! Bitte melden Sie sich zu allen rechtzeitig an:\nTelefon 034976 380850 |  info@groebziger-synagoge.de
URL:https://www.archiv.jkt-sachsen-anhalt.de/veranstaltung/gemeinsames-pogromgedenken/
LOCATION:Marktplatz\, Marktplatz\, Gröbzig\, 06388
ATTACH;FMTTYPE=image/jpeg:https://www.archiv.jkt-sachsen-anhalt.de/wp-content/uploads/2021/10/2021-11-07.jpg
END:VEVENT
BEGIN:VEVENT
DTSTART;TZID=Europe/Berlin:20211109T190000
DTEND;TZID=Europe/Berlin:20211109T190000
DTSTAMP:20260419T135224
CREATED:20211028T104620Z
LAST-MODIFIED:20211106T132518Z
UID:1147-1636484400-1636484400@www.archiv.jkt-sachsen-anhalt.de
SUMMARY:Verschoben! In Erinnerung an Alfred Tokayer
DESCRIPTION:Achtung! Krankheitsbedingt muss die Veranstaltung am 9. November in Erinnerung an Alfred Tokayer verschoben werden. Informationen folgen! \nDer 1900 in Köthen geborene jüdische Komponist Alfred Tokayer ist einer der unbekannteren Söhne der Stadt Köthen (Anhalt). Sein Schicksal ist fest mit dem dunkelsten Kapitel der deutschen Geschichte verknüpft. Er war Komponist\, Dirigent\, Pianist\, Kapellmeister\, Filmmusiker\, Fremdenlegionär\, Flüchtling\, Köthener\, Jude und wurde Opfer des Holocaust. Am Datum des Pogroms von 1938 und am viel beschriebenen Schicksalstag der Historie dieses Landes – dem 9. November – möchte die Projektgruppe „Jüdisches Leben“ des Köthener TRAFO-Projektes „Neue Kulturen des Miteinanders“ nun in Zusammenarbeit mit dem Stadtarchiv Köthen (Anhalt) an diesen einzigartigen Musiker und Menschen erinnern. \nStadtarchivarin Monika Knof lädt um 19:00 Uhr zu einem kleinen Stadtrundgang durch Köthen (Anhalt) ein\, bei dem das jüdische Leben in der Bachstadt und das Leben Tokayers im Fokus stehen werden. Startpunkt ist der Holzmarkt und die Teilnahme ist kostenfrei. Ab 20:00 Uhr werden dann die Sopranistin Derya Atakan und die Pianistin Nina Gurol im Anna-Magdalena-Bach-Saal im Veranstaltungszentrum im Schloss Köthen die Werke des Komponisten mit einem Konzert würdigen. Die beiden jungen Musikerinnen wurden bereits mehrfach ausgezeichnet und haben sich vor Ort in Köthen (Anhalt) intensiv mit dem Komponisten und seiner Biografie befasst.  \nKarten für die Veranstaltung können für 15 Euro (12 Euro ermäßigt) in der Köthen-Information im Schloss Köthen (Tel.: 03496 70099260) oder unter www.reservix.de erworben werden.
URL:https://www.archiv.jkt-sachsen-anhalt.de/veranstaltung/in-erinnerung-an-alfred-tokayer/
LOCATION:Veranstaltungszentrum Köthen\, Schloßpl. 4\, Köthen\, 06366
ATTACH;FMTTYPE=image/jpeg:https://www.archiv.jkt-sachsen-anhalt.de/wp-content/uploads/2021/10/2021-10-08-Flyer-Konzert.jpg
END:VEVENT
END:VCALENDAR