BEGIN:VCALENDAR
VERSION:2.0
PRODID:-//Jüdische Kulturtage Sachsen-Anhalt - ECPv5.14.0.3//NONSGML v1.0//EN
CALSCALE:GREGORIAN
METHOD:PUBLISH
X-WR-CALNAME:Jüdische Kulturtage Sachsen-Anhalt
X-ORIGINAL-URL:https://www.archiv.jkt-sachsen-anhalt.de
X-WR-CALDESC:Events for Jüdische Kulturtage Sachsen-Anhalt
REFRESH-INTERVAL;VALUE=DURATION:PT1H
X-Robots-Tag:noindex
X-PUBLISHED-TTL:PT1H
BEGIN:VTIMEZONE
TZID:Europe/Berlin
BEGIN:DAYLIGHT
TZOFFSETFROM:+0100
TZOFFSETTO:+0200
TZNAME:CEST
DTSTART:20210328T010000
END:DAYLIGHT
BEGIN:STANDARD
TZOFFSETFROM:+0200
TZOFFSETTO:+0100
TZNAME:CET
DTSTART:20211031T010000
END:STANDARD
END:VTIMEZONE
BEGIN:VEVENT
DTSTART;TZID=Europe/Berlin:20211113T200000
DTEND;TZID=Europe/Berlin:20211113T200000
DTSTAMP:20260419T151258
CREATED:20210908T211103Z
LAST-MODIFIED:20211014T095606Z
UID:386-1636833600-1636833600@www.archiv.jkt-sachsen-anhalt.de
SUMMARY:Konzert: Alan Bern & Chilik Frank (USA/D\, Israel)
DESCRIPTION:An diesem Abend erwartet Sie die Weltpremiere der Begegnung von zwei führenden Protagonisten der weltweiten jüdischen Musikszene. Chilik Frank ist Israels bekanntester und beliebtester chassidischer Klarinettist. Alan Bern\, in den USA geboren und seit langer Zeit Wahlberliner\, ist Pianist\, Akkordeonist\, Komponist und ein Pionier des weltweiten Revivals der Klezmer-Musik. Alan Bern und Chilik Frank schaffen etwas völlig Neues\, in dem sie zwei jahrhundertealte jüdische Strömungen verbinden: die ekstatische Frömmigkeit der chassidischen Juden und den leidenschaftlichen Idealismus der jüdischen Aufklärung. Die Konzertbesucher*innen erwartet ein Programm mit chassidischen Melodien voller Hingabe und Fröhlichkeit und mit lebensfroher Klezmer-Musik der Hochzeiten und des täglichen Lebens: eine musikalische Rezeptur\, die bewegt und inspiriert – dargeboten mit aufrichtiger Leidenschaft und Virtuosität. 
URL:https://www.archiv.jkt-sachsen-anhalt.de/veranstaltung/alan-bern-chilik-frank/
LOCATION:Aula im Löwengebäude der Uni Halle\, Universitätsplatz 1\, Halle (Saale)\, Sachsen-Anhalt\, 06108\, Deutschland
ATTACH;FMTTYPE=image/jpeg:https://www.archiv.jkt-sachsen-anhalt.de/wp-content/uploads/2021/09/alanchilik_high_neu-scaled.jpg
END:VEVENT
END:VCALENDAR