BEGIN:VCALENDAR
VERSION:2.0
PRODID:-//Jüdische Kulturtage Sachsen-Anhalt - ECPv5.14.0.3//NONSGML v1.0//EN
CALSCALE:GREGORIAN
METHOD:PUBLISH
X-WR-CALNAME:Jüdische Kulturtage Sachsen-Anhalt
X-ORIGINAL-URL:https://www.archiv.jkt-sachsen-anhalt.de
X-WR-CALDESC:Events for Jüdische Kulturtage Sachsen-Anhalt
REFRESH-INTERVAL;VALUE=DURATION:PT1H
X-Robots-Tag:noindex
X-PUBLISHED-TTL:PT1H
BEGIN:VTIMEZONE
TZID:Europe/Berlin
BEGIN:DAYLIGHT
TZOFFSETFROM:+0100
TZOFFSETTO:+0200
TZNAME:CEST
DTSTART:20210328T010000
END:DAYLIGHT
BEGIN:STANDARD
TZOFFSETFROM:+0200
TZOFFSETTO:+0100
TZNAME:CET
DTSTART:20211031T010000
END:STANDARD
END:VTIMEZONE
BEGIN:VEVENT
DTSTART;TZID=Europe/Berlin:20210920T170000
DTEND;TZID=Europe/Berlin:20210920T180000
DTSTAMP:20260419T183725
CREATED:20210915T175459Z
LAST-MODIFIED:20210919T191717Z
UID:689-1632157200-1632160800@www.archiv.jkt-sachsen-anhalt.de
SUMMARY:Sukkot XXL Magdeburg
DESCRIPTION:Programmgestaltung durch den Förderverein „Neue Synagoge Magdeburg“ e.V. und die Deutsch-Israelische Gesellschaft e.V. AG Magdeburg
URL:https://www.archiv.jkt-sachsen-anhalt.de/veranstaltung/sukkot-xxl-magdeburg-foerderverein-neue-synagoge-magdeburg-und-deutsch-israelische-gesellschaft-ag-magdeburg/
LOCATION:Forum Gestaltung\, Brandenburger Str. 10\, Magdeburg\, 39104\, Deutschland
ATTACH;FMTTYPE=image/jpeg:https://www.archiv.jkt-sachsen-anhalt.de/wp-content/uploads/2021/09/PikiWiki_Israel_23355_Sukkah_ornaments_market_in_Bnei_Brak-e1631718457739.jpg
END:VEVENT
BEGIN:VEVENT
DTSTART;TZID=Europe/Berlin:20210921T180000
DTEND;TZID=Europe/Berlin:20210921T203000
DTSTAMP:20260419T183725
CREATED:20210914T181316Z
LAST-MODIFIED:20210915T092054Z
UID:554-1632247200-1632256200@www.archiv.jkt-sachsen-anhalt.de
SUMMARY:Sukkot XXL Gröbzig
DESCRIPTION:Vortrag mit Verkostung in der Sukka \nEine Veranstaltung mit dem Museum Synagoge Gröbzig. \nAchtung: Die Anzahl an Karten ist begrenzt!
URL:https://www.archiv.jkt-sachsen-anhalt.de/veranstaltung/sukkot-xxl-in-groebzig/
LOCATION:Gröbzig\, Rathausplatz\, Gröbzig\, Sachsen-Anhalt\, 06388\, Deutschland
ATTACH;FMTTYPE=image/png:https://www.archiv.jkt-sachsen-anhalt.de/wp-content/uploads/2021/09/Bild_2021-09-14_201012-e1631725372306.png
END:VEVENT
BEGIN:VEVENT
DTSTART;TZID=Europe/Berlin:20210923T130000
DTEND;TZID=Europe/Berlin:20210923T190000
DTSTAMP:20260419T183725
CREATED:20210915T091722Z
LAST-MODIFIED:20210916T140110Z
UID:603-1632402000-1632423600@www.archiv.jkt-sachsen-anhalt.de
SUMMARY:Sukkot XXL Magdeburg: Synagogen-Gemeinde zu Magdeburg
DESCRIPTION:Die Synagogen-Gemeinde zu Magdeburg lädt alle Interessierten zu einem gemütlichen Treffen bei Speisen und Getränken in die Sukka ein.
URL:https://www.archiv.jkt-sachsen-anhalt.de/veranstaltung/sukkot-xxl-in-magdeburg/
LOCATION:Forum Gestaltung\, Brandenburger Str. 10\, Magdeburg\, 39104\, Deutschland
ATTACH;FMTTYPE=image/jpeg:https://www.archiv.jkt-sachsen-anhalt.de/wp-content/uploads/2021/09/PikiWiki_Israel_23355_Sukkah_ornaments_market_in_Bnei_Brak-e1631718457739.jpg
END:VEVENT
BEGIN:VEVENT
DTSTART;TZID=Europe/Berlin:20210923T170000
DTEND;TZID=Europe/Berlin:20210923T170000
DTSTAMP:20260419T183725
CREATED:20210915T145125Z
LAST-MODIFIED:20210915T145933Z
UID:625-1632416400-1632416400@www.archiv.jkt-sachsen-anhalt.de
SUMMARY:Sukkot XXL Halle: Impulsvortrag zu Sukkot
DESCRIPTION:Igor Matviyets berichtet von Sukkot: Was ist der Hintergrund des Festes? Welche Traditionen und Bräuche gibt es und warum sitzen wir draußen in der Sukka und nicht drinnen\, wo es schön warm ist? Es gibt auch einen Ausblick auf die direkt danach folgenden Feiertage und natürlich haben Sie die Gelegenheit\, Fragen zu stellen!
URL:https://www.archiv.jkt-sachsen-anhalt.de/veranstaltung/sukkot-xxl-halle-impulsvortrag-zu-sukkot/
LOCATION:Sukka auf dem Jerusalemer Platz\, Jerusalemer Platz\, Halle (Saale)\, 06108
ATTACH;FMTTYPE=image/jpeg:https://www.archiv.jkt-sachsen-anhalt.de/wp-content/uploads/2021/09/Igor-Matvijets_Foto_Florian-Korb-scaled-e1631717457909.jpg
END:VEVENT
BEGIN:VEVENT
DTSTART;TZID=Europe/Berlin:20210924T080000
DTEND;TZID=Europe/Berlin:20210924T100000
DTSTAMP:20260419T183725
CREATED:20210916T140349Z
LAST-MODIFIED:20210916T153635Z
UID:885-1632470400-1632477600@www.archiv.jkt-sachsen-anhalt.de
SUMMARY:Ilan Projektbesuch im Gymnasium Querfurt
DESCRIPTION:Ein Besuch zum Jüdischen Leben in Sachsen-Anhalt. Die Veranstaltung ist nicht öffentlich. \nSind Sie an Besuchen an Ihrer Schule interessiert\, so wenden Sie sich bitte an Dr. Anton Hieke (Ilan-Bildungsprogramm): anton.hieke@ilan-st.de \n 
URL:https://www.archiv.jkt-sachsen-anhalt.de/veranstaltung/ilan-projekttag-im-gymansium-querfurt/
LOCATION:Gymnasium Querfurt\, An der Geistpromenade 29\, Querfurt\, 06268
ATTACH;FMTTYPE=image/jpeg:https://www.archiv.jkt-sachsen-anhalt.de/wp-content/uploads/2021/09/Logo-ILAN_lang-e1631802096696.jpg
END:VEVENT
BEGIN:VEVENT
DTSTART;TZID=Europe/Berlin:20210924T130000
DTEND;TZID=Europe/Berlin:20210924T170000
DTSTAMP:20260419T183725
CREATED:20210915T180300Z
LAST-MODIFIED:20210916T140400Z
UID:701-1632488400-1632502800@www.archiv.jkt-sachsen-anhalt.de
SUMMARY:Sukkot XXL Magdeburg: Synagogen-Gemeinde zu Magdeburg
DESCRIPTION:Die Synagogen-Gemeinde zu Magdeburg lädt alle Interessierten zu einem gemütlichen Treffen bei Speisen und Getränken in die Sukka ein.
URL:https://www.archiv.jkt-sachsen-anhalt.de/veranstaltung/sukkot-xxl-magdeburg-synagogen-gemeinde-zu-magdeburg/
LOCATION:Forum Gestaltung\, Brandenburger Str. 10\, Magdeburg\, 39104\, Deutschland
ATTACH;FMTTYPE=image/jpeg:https://www.archiv.jkt-sachsen-anhalt.de/wp-content/uploads/2021/09/upper_PikiWiki_Israel_23355_Sukkah_ornaments_market_in_Bnei_Brak.jpg
END:VEVENT
BEGIN:VEVENT
DTSTART;TZID=Europe/Berlin:20210924T163000
DTEND;TZID=Europe/Berlin:20210924T163000
DTSTAMP:20260419T183725
CREATED:20210914T162526Z
LAST-MODIFIED:20210915T091953Z
UID:537-1632501000-1632501000@www.archiv.jkt-sachsen-anhalt.de
SUMMARY:Sukkot XXL Halle: Wir singen gemeinsam in der Sukka!
DESCRIPTION:Vor dem Beginn des Schabbat sind alle eingeladen\, gemeinsam mit der wunderbaren Sängerin Luba Meyer jiddische und hebräische Lieder zum Schabbat und zu Sukkot zu singen. Alles was Sie brauchen ist Ihre Stimme\, gute Laune und viel Spaß am gemeinsamen Singen! Noten bzw. Texte in lateinischer Umschrift werden gestellt. \nMit Luba Meyer\, Gesang und Andreas Schmitges\, Gitarre
URL:https://www.archiv.jkt-sachsen-anhalt.de/veranstaltung/sukkot-xxl-halle-wir-singen-gemeinsam-in-der-sukka/
LOCATION:Sukka auf dem Jerusalemer Platz\, Jerusalemer Platz\, Halle (Saale)\, 06108
ATTACH;FMTTYPE=image/jpeg:https://www.archiv.jkt-sachsen-anhalt.de/wp-content/uploads/2021/09/portrait-luba-claus-foto-Rozhinkes-e1631718380885.jpg
END:VEVENT
BEGIN:VEVENT
DTSTART;TZID=Europe/Berlin:20210926T130000
DTEND;TZID=Europe/Berlin:20210926T150000
DTSTAMP:20260419T183725
CREATED:20210915T155425Z
LAST-MODIFIED:20210915T181308Z
UID:632-1632661200-1632668400@www.archiv.jkt-sachsen-anhalt.de
SUMMARY:Sukkot XXL Magdeburg: Jüdische Gemeinde zu Magdeburg
DESCRIPTION:Der Kantor der Jüdischen Gemeinde zu Magdeburg e.V. spricht über Thora und Traditionen zu Sukkot. Dazu bietet die Gemeinde Getränke und jüdische Köstlichkeiten für die Gäste an.
URL:https://www.archiv.jkt-sachsen-anhalt.de/veranstaltung/sukkot-xxl-magdeburg-juedische-gemeinde-zu-magdeburg/
LOCATION:Forum Gestaltung\, Brandenburger Str. 10\, Magdeburg\, 39104\, Deutschland
ATTACH;FMTTYPE=image/jpeg:https://www.archiv.jkt-sachsen-anhalt.de/wp-content/uploads/2021/09/PikiWiki_Israel_23355_Sukkah_ornaments_market_in_Bnei_Brak-e1631718457739.jpg
END:VEVENT
BEGIN:VEVENT
DTSTART;TZID=Europe/Berlin:20210926T150000
DTEND;TZID=Europe/Berlin:20210926T173000
DTSTAMP:20260419T183725
CREATED:20210914T145421Z
LAST-MODIFIED:20210917T095220Z
UID:527-1632668400-1632677400@www.archiv.jkt-sachsen-anhalt.de
SUMMARY:Sukkot XXL Halle (Saale): Eröffnungsveranstaltung der Jüdischen Kulturtage Sachsen-Anhalt
DESCRIPTION:Am 26. September lädt der Leopold Zunz e.V. herzlich zur offiziellen Eröffnung der Jüdischen Kulturtage Sachsen-Anhalt in Halle (Saale) ein. Ab 15 Uhr wollen wir gemeinsam mit unseren Gästen\, dem Landesverband Jüdischer Gemeinden Sachsen-Anhalt sowie unseren Netzwerkpartnern und Förderern in und um die Sukka auf dem Jerusalemer Platz feiern.\nDie Eröffnung gestaltet Rabbiner Zsolt Balla. Nach Grußworten durch Staats- und Kulturminister Sachsen-Anhalts Rainer Robra sowie Bürgermeister der Stadt Halle (Saale) Egbert Geier nimmt uns das Trio Lebedik mit auf eine musikalische Reise jiddischer Lieder von Osteuropa nach Amerika. Danach laden wir Sie zum gemütlichen Beisammensein bei Snacks und Getränke ein. Ende der Veranstaltung ist 17.30 Uhr.
URL:https://www.archiv.jkt-sachsen-anhalt.de/veranstaltung/sukkot-xxl-halle/
LOCATION:Sukka auf dem Jerusalemer Platz\, Jerusalemer Platz\, Halle (Saale)\, 06108
ATTACH;FMTTYPE=image/jpeg:https://www.archiv.jkt-sachsen-anhalt.de/wp-content/uploads/2021/09/YSW-2020_Konzert_Marktplatz_Lebedik2_Foto-Shendl-Copitman-scaled-e1631718147216.jpg
END:VEVENT
BEGIN:VEVENT
DTSTART;TZID=Europe/Berlin:20210927T150000
DTEND;TZID=Europe/Berlin:20210927T163000
DTSTAMP:20260419T183725
CREATED:20210915T181651Z
LAST-MODIFIED:20210915T181717Z
UID:714-1632754800-1632760200@www.archiv.jkt-sachsen-anhalt.de
SUMMARY:Sukkot XXL Magdeburg: Jüdische Gemeinde zu Magdeburg
DESCRIPTION:An diesem Nachmittag erwartet Sie ein Konzert mit dem Ensemble “Kolorit”\, das aus Mitgliedern der Jüdischen Gemeinde zu Magdeburg besteht. Die engagierten Sänger*innen singen bekannte hebräische und jiddische Lieder.
URL:https://www.archiv.jkt-sachsen-anhalt.de/veranstaltung/sukkot-xxl-magdeburg-juedische-gemeinde-zu-magdeburg-2/
LOCATION:Forum Gestaltung\, Brandenburger Str. 10\, Magdeburg\, 39104\, Deutschland
ATTACH;FMTTYPE=image/jpeg:https://www.archiv.jkt-sachsen-anhalt.de/wp-content/uploads/2021/09/upper_PikiWiki_Israel_23355_Sukkah_ornaments_market_in_Bnei_Brak.jpg
END:VEVENT
END:VCALENDAR